BEGIN:VCALENDAR
VERSION:2.0
PRODID:-//Basingstoke Community Radio - ECPv6.15.17.1//NONSGML v1.0//EN
CALSCALE:GREGORIAN
METHOD:PUBLISH
X-WR-CALNAME:Basingstoke Community Radio
X-ORIGINAL-URL:https://basingstokecommunityradio.org.uk
X-WR-CALDESC:Events for Basingstoke Community Radio
REFRESH-INTERVAL;VALUE=DURATION:PT1H
X-Robots-Tag:noindex
X-PUBLISHED-TTL:PT1H
BEGIN:VTIMEZONE
TZID:Europe/London
BEGIN:DAYLIGHT
TZOFFSETFROM:+0000
TZOFFSETTO:+0100
TZNAME:BST
DTSTART:20240331T010000
END:DAYLIGHT
BEGIN:STANDARD
TZOFFSETFROM:+0100
TZOFFSETTO:+0000
TZNAME:GMT
DTSTART:20241027T010000
END:STANDARD
BEGIN:DAYLIGHT
TZOFFSETFROM:+0000
TZOFFSETTO:+0100
TZNAME:BST
DTSTART:20250330T010000
END:DAYLIGHT
BEGIN:STANDARD
TZOFFSETFROM:+0100
TZOFFSETTO:+0000
TZNAME:GMT
DTSTART:20251026T010000
END:STANDARD
BEGIN:DAYLIGHT
TZOFFSETFROM:+0000
TZOFFSETTO:+0100
TZNAME:BST
DTSTART:20260329T010000
END:DAYLIGHT
BEGIN:STANDARD
TZOFFSETFROM:+0100
TZOFFSETTO:+0000
TZNAME:GMT
DTSTART:20261025T010000
END:STANDARD
END:VTIMEZONE
BEGIN:VEVENT
DTSTART;TZID=Europe/London:20251119T200000
DTEND;TZID=Europe/London:20251119T220000
DTSTAMP:20260422T113428
CREATED:20251002T192737Z
LAST-MODIFIED:20251117T200035Z
UID:1724-1763582400-1763589600@basingstokecommunityradio.org.uk
SUMMARY:Studio 4 Live:  GARY 'Okey' MYLES
DESCRIPTION:
URL:https://basingstokecommunityradio.org.uk/event/studio-4-live-gary-miles/
CATEGORIES:Studio 4
ATTACH;FMTTYPE=image/png:https://basingstokecommunityradio.org.uk/wp-content/uploads/2025/06/Studio-4-Logo-Mixing-Desk.webp
ORGANIZER;CN="Basingstoke Community Radio":MAILTO:info@basingstokecommunityradio.org.uk
END:VEVENT
BEGIN:VEVENT
DTSTART;TZID=Europe/London:20251130T130000
DTEND;TZID=Europe/London:20251130T180000
DTSTAMP:20260422T113428
CREATED:20250323T213359Z
LAST-MODIFIED:20251110T124312Z
UID:1443-1764507600-1764525600@basingstokecommunityradio.org.uk
SUMMARY:Odiham Xmas Extravaganza
DESCRIPTION:A festive\, fun-filled afternoon & evening with a variety of gift stalls.
URL:https://basingstokecommunityradio.org.uk/event/odiham-xmas-extravaganza/
LOCATION:Odiham\, Hampshire\, RG29 1LN
CATEGORIES:Christmas
ATTACH;FMTTYPE=image/png:https://basingstokecommunityradio.org.uk/wp-content/uploads/2025/03/Christmas-Extravaganza-logo-01.avif
END:VEVENT
END:VCALENDAR