BEGIN:VCALENDAR
VERSION:2.0
PRODID:-//Basingstoke Community Radio - ECPv6.15.17.1//NONSGML v1.0//EN
CALSCALE:GREGORIAN
METHOD:PUBLISH
X-WR-CALNAME:Basingstoke Community Radio
X-ORIGINAL-URL:https://basingstokecommunityradio.org.uk
X-WR-CALDESC:Events for Basingstoke Community Radio
REFRESH-INTERVAL;VALUE=DURATION:PT1H
X-Robots-Tag:noindex
X-PUBLISHED-TTL:PT1H
BEGIN:VTIMEZONE
TZID:Europe/London
BEGIN:DAYLIGHT
TZOFFSETFROM:+0000
TZOFFSETTO:+0100
TZNAME:BST
DTSTART:20240331T010000
END:DAYLIGHT
BEGIN:STANDARD
TZOFFSETFROM:+0100
TZOFFSETTO:+0000
TZNAME:GMT
DTSTART:20241027T010000
END:STANDARD
BEGIN:DAYLIGHT
TZOFFSETFROM:+0000
TZOFFSETTO:+0100
TZNAME:BST
DTSTART:20250330T010000
END:DAYLIGHT
BEGIN:STANDARD
TZOFFSETFROM:+0100
TZOFFSETTO:+0000
TZNAME:GMT
DTSTART:20251026T010000
END:STANDARD
BEGIN:DAYLIGHT
TZOFFSETFROM:+0000
TZOFFSETTO:+0100
TZNAME:BST
DTSTART:20260329T010000
END:DAYLIGHT
BEGIN:STANDARD
TZOFFSETFROM:+0100
TZOFFSETTO:+0000
TZNAME:GMT
DTSTART:20261025T010000
END:STANDARD
END:VTIMEZONE
BEGIN:VEVENT
DTSTART;TZID=Europe/London:20250511T110000
DTEND;TZID=Europe/London:20250511T160000
DTSTAMP:20260424T162421
CREATED:20250323T211238Z
LAST-MODIFIED:20250323T211240Z
UID:1412-1746961200-1746979200@basingstokecommunityradio.org.uk
SUMMARY:Basingstoke Festival of Transport
DESCRIPTION:Basingstoke Deane Rotary have been running this event for the past few years\, having taken over from the Thornycroft Society. \n\n\n\nAs in previous years\, there will be a huge range of vehicles on static display\, including classic\, vintage\, commercial\, fire engines and military trucks. There will also be a variety of specialist car clubs\, trade stalls and catering outlets. \n\n\n\nEntrance free to pedestrian visitors\, event parking £5 per car \n\n\n\nThis is a charity run event put on entirely by unpaid volunteers\, funds raised go charity and charitable activities.
URL:https://basingstokecommunityradio.org.uk/event/basingstoke-festival-of-transport/
LOCATION:War Memorial Park\, Basingstoke\, RG21 4AF
ATTACH;FMTTYPE=image/jpeg:https://basingstokecommunityradio.org.uk/wp-content/uploads/2025/03/TransPort.webp
END:VEVENT
BEGIN:VEVENT
DTSTART;TZID=Europe/London:20250526T120000
DTEND;TZID=Europe/London:20250526T160000
DTSTAMP:20260424T162421
CREATED:20250323T211547Z
LAST-MODIFIED:20250323T211549Z
UID:1417-1748260800-1748275200@basingstokecommunityradio.org.uk
SUMMARY:Loddon Rotary Duck Race
DESCRIPTION:
URL:https://basingstokecommunityradio.org.uk/event/loddon-rotary-duck-race/
LOCATION:Bartons Mill\, Basingstoke
END:VEVENT
BEGIN:VEVENT
DTSTART;TZID=Europe/London:20250531T120000
DTEND;TZID=Europe/London:20250531T170000
DTSTAMP:20260424T162421
CREATED:20250323T211741Z
LAST-MODIFIED:20250323T211743Z
UID:1421-1748692800-1748710800@basingstokecommunityradio.org.uk
SUMMARY:Bark in the Park
DESCRIPTION:
URL:https://basingstokecommunityradio.org.uk/event/bark-in-the-park/
LOCATION:Popleyfields Open Space\, Basingstoke
END:VEVENT
END:VCALENDAR