BEGIN:VCALENDAR
VERSION:2.0
PRODID:-//Basingstoke Community Radio - ECPv6.15.17.1//NONSGML v1.0//EN
CALSCALE:GREGORIAN
METHOD:PUBLISH
X-WR-CALNAME:Basingstoke Community Radio
X-ORIGINAL-URL:https://basingstokecommunityradio.org.uk
X-WR-CALDESC:Events for Basingstoke Community Radio
REFRESH-INTERVAL;VALUE=DURATION:PT1H
X-Robots-Tag:noindex
X-PUBLISHED-TTL:PT1H
BEGIN:VTIMEZONE
TZID:Europe/London
BEGIN:DAYLIGHT
TZOFFSETFROM:+0000
TZOFFSETTO:+0100
TZNAME:BST
DTSTART:20240331T010000
END:DAYLIGHT
BEGIN:STANDARD
TZOFFSETFROM:+0100
TZOFFSETTO:+0000
TZNAME:GMT
DTSTART:20241027T010000
END:STANDARD
BEGIN:DAYLIGHT
TZOFFSETFROM:+0000
TZOFFSETTO:+0100
TZNAME:BST
DTSTART:20250330T010000
END:DAYLIGHT
BEGIN:STANDARD
TZOFFSETFROM:+0100
TZOFFSETTO:+0000
TZNAME:GMT
DTSTART:20251026T010000
END:STANDARD
BEGIN:DAYLIGHT
TZOFFSETFROM:+0000
TZOFFSETTO:+0100
TZNAME:BST
DTSTART:20260329T010000
END:DAYLIGHT
BEGIN:STANDARD
TZOFFSETFROM:+0100
TZOFFSETTO:+0000
TZNAME:GMT
DTSTART:20261025T010000
END:STANDARD
END:VTIMEZONE
BEGIN:VEVENT
DTSTART;TZID=Europe/London:20250203T000000
DTEND;TZID=Europe/London:20250203T235959
DTSTAMP:20260425T124742
CREATED:20250119T161910Z
LAST-MODIFIED:20250201T143156Z
UID:810-1738540800-1738627199@basingstokecommunityradio.org.uk
SUMMARY:Website Launch
DESCRIPTION:We are launching our new website
URL:https://basingstokecommunityradio.org.uk/event/website-launch/
LOCATION:Online
ATTACH;FMTTYPE=image/webp:https://basingstokecommunityradio.org.uk/wp-content/uploads/2024/10/cropped-bcr-logo-22-.-png-1.webp
ORGANIZER;CN="Basingstoke Community Radio":MAILTO:info@basingstokecommunityradio.org.uk
END:VEVENT
END:VCALENDAR