BEGIN:VCALENDAR
VERSION:2.0
PRODID:-//Basingstoke Community Radio - ECPv6.15.17.1//NONSGML v1.0//EN
CALSCALE:GREGORIAN
METHOD:PUBLISH
X-ORIGINAL-URL:https://basingstokecommunityradio.org.uk
X-WR-CALDESC:Events for Basingstoke Community Radio
REFRESH-INTERVAL;VALUE=DURATION:PT1H
X-Robots-Tag:noindex
X-PUBLISHED-TTL:PT1H
BEGIN:VTIMEZONE
TZID:Europe/London
BEGIN:DAYLIGHT
TZOFFSETFROM:+0000
TZOFFSETTO:+0100
TZNAME:BST
DTSTART:20240331T010000
END:DAYLIGHT
BEGIN:STANDARD
TZOFFSETFROM:+0100
TZOFFSETTO:+0000
TZNAME:GMT
DTSTART:20241027T010000
END:STANDARD
BEGIN:DAYLIGHT
TZOFFSETFROM:+0000
TZOFFSETTO:+0100
TZNAME:BST
DTSTART:20250330T010000
END:DAYLIGHT
BEGIN:STANDARD
TZOFFSETFROM:+0100
TZOFFSETTO:+0000
TZNAME:GMT
DTSTART:20251026T010000
END:STANDARD
BEGIN:DAYLIGHT
TZOFFSETFROM:+0000
TZOFFSETTO:+0100
TZNAME:BST
DTSTART:20260329T010000
END:DAYLIGHT
BEGIN:STANDARD
TZOFFSETFROM:+0100
TZOFFSETTO:+0000
TZNAME:GMT
DTSTART:20261025T010000
END:STANDARD
END:VTIMEZONE
BEGIN:VEVENT
DTSTART;TZID=Europe/London:20251217T200000
DTEND;TZID=Europe/London:20251217T220000
DTSTAMP:20260425T164216
CREATED:20251002T193830Z
LAST-MODIFIED:20251110T121445Z
UID:1731-1766001600-1766008800@basingstokecommunityradio.org.uk
SUMMARY:Studio 4 Live: B- FUNKT SOUL & DISCO BAND
DESCRIPTION:
URL:https://basingstokecommunityradio.org.uk/event/studio-4-live-b-funkt-soul-disco-band/
CATEGORIES:Studio 4
ATTACH;FMTTYPE=image/png:https://basingstokecommunityradio.org.uk/wp-content/uploads/2025/06/Studio-4-Logo-Mixing-Desk.webp
ORGANIZER;CN="Basingstoke Community Radio":MAILTO:info@basingstokecommunityradio.org.uk
END:VEVENT
END:VCALENDAR