BEGIN:VCALENDAR
VERSION:2.0
PRODID:-//Basingstoke Community Radio - ECPv6.15.17.1//NONSGML v1.0//EN
CALSCALE:GREGORIAN
METHOD:PUBLISH
X-WR-CALNAME:Basingstoke Community Radio
X-ORIGINAL-URL:https://basingstokecommunityradio.org.uk
X-WR-CALDESC:Events for Basingstoke Community Radio
REFRESH-INTERVAL;VALUE=DURATION:PT1H
X-Robots-Tag:noindex
X-PUBLISHED-TTL:PT1H
BEGIN:VTIMEZONE
TZID:Europe/London
BEGIN:DAYLIGHT
TZOFFSETFROM:+0000
TZOFFSETTO:+0100
TZNAME:BST
DTSTART:20240331T010000
END:DAYLIGHT
BEGIN:STANDARD
TZOFFSETFROM:+0100
TZOFFSETTO:+0000
TZNAME:GMT
DTSTART:20241027T010000
END:STANDARD
BEGIN:DAYLIGHT
TZOFFSETFROM:+0000
TZOFFSETTO:+0100
TZNAME:BST
DTSTART:20250330T010000
END:DAYLIGHT
BEGIN:STANDARD
TZOFFSETFROM:+0100
TZOFFSETTO:+0000
TZNAME:GMT
DTSTART:20251026T010000
END:STANDARD
BEGIN:DAYLIGHT
TZOFFSETFROM:+0000
TZOFFSETTO:+0100
TZNAME:BST
DTSTART:20260329T010000
END:DAYLIGHT
BEGIN:STANDARD
TZOFFSETFROM:+0100
TZOFFSETTO:+0000
TZNAME:GMT
DTSTART:20261025T010000
END:STANDARD
END:VTIMEZONE
BEGIN:VEVENT
DTSTART;TZID=Europe/London:20251005T090000
DTEND;TZID=Europe/London:20251005T130000
DTSTAMP:20260424T093117
CREATED:20250323T213110Z
LAST-MODIFIED:20250323T213111Z
UID:1441-1759654800-1759669200@basingstokecommunityradio.org.uk
SUMMARY:Basingstoke Half Marathon & 10K
DESCRIPTION:
URL:https://basingstokecommunityradio.org.uk/event/basingstoke-half-marathon-10k/
END:VEVENT
END:VCALENDAR