BEGIN:VCALENDAR
VERSION:2.0
PRODID:-//Basingstoke Community Radio - ECPv6.15.17.1//NONSGML v1.0//EN
CALSCALE:GREGORIAN
METHOD:PUBLISH
X-ORIGINAL-URL:https://basingstokecommunityradio.org.uk
X-WR-CALDESC:Events for Basingstoke Community Radio
REFRESH-INTERVAL;VALUE=DURATION:PT1H
X-Robots-Tag:noindex
X-PUBLISHED-TTL:PT1H
BEGIN:VTIMEZONE
TZID:Europe/London
BEGIN:DAYLIGHT
TZOFFSETFROM:+0000
TZOFFSETTO:+0100
TZNAME:BST
DTSTART:20240331T010000
END:DAYLIGHT
BEGIN:STANDARD
TZOFFSETFROM:+0100
TZOFFSETTO:+0000
TZNAME:GMT
DTSTART:20241027T010000
END:STANDARD
BEGIN:DAYLIGHT
TZOFFSETFROM:+0000
TZOFFSETTO:+0100
TZNAME:BST
DTSTART:20250330T010000
END:DAYLIGHT
BEGIN:STANDARD
TZOFFSETFROM:+0100
TZOFFSETTO:+0000
TZNAME:GMT
DTSTART:20251026T010000
END:STANDARD
BEGIN:DAYLIGHT
TZOFFSETFROM:+0000
TZOFFSETTO:+0100
TZNAME:BST
DTSTART:20260329T010000
END:DAYLIGHT
BEGIN:STANDARD
TZOFFSETFROM:+0100
TZOFFSETTO:+0000
TZNAME:GMT
DTSTART:20261025T010000
END:STANDARD
END:VTIMEZONE
BEGIN:VEVENT
DTSTART;TZID=Europe/London:20250627T100000
DTEND;TZID=Europe/London:20250627T160000
DTSTAMP:20260424T164653
CREATED:20250323T212244Z
LAST-MODIFIED:20250323T212245Z
UID:1425-1751018400-1751040000@basingstokecommunityradio.org.uk
SUMMARY:Disability Awareness Day
DESCRIPTION:
URL:https://basingstokecommunityradio.org.uk/event/disability-awareness-day/
LOCATION:The Malls\, Basingstoke
END:VEVENT
BEGIN:VEVENT
DTSTART;TZID=Europe/London:20250627T170000
DTEND;TZID=Europe/London:20250627T190000
DTSTAMP:20260424T164653
CREATED:20250323T212435Z
LAST-MODIFIED:20250323T212437Z
UID:1429-1751043600-1751050800@basingstokecommunityradio.org.uk
SUMMARY:Great Binfields School Summer BBQ
DESCRIPTION:Themed Event
URL:https://basingstokecommunityradio.org.uk/event/great-binfields-school-summer-bbq/
LOCATION:Great Binfields School\, Basingstoke
END:VEVENT
END:VCALENDAR